BEGIN:VCALENDAR
VERSION:2.0
PRODID:-//Concern America - ECPv6.15.20//NONSGML v1.0//EN
CALSCALE:GREGORIAN
METHOD:PUBLISH
X-ORIGINAL-URL:https://concernamerica.org
X-WR-CALDESC:Events for Concern America
REFRESH-INTERVAL;VALUE=DURATION:PT1H
X-Robots-Tag:noindex
X-PUBLISHED-TTL:PT1H
BEGIN:VTIMEZONE
TZID:UTC
BEGIN:STANDARD
TZOFFSETFROM:+0000
TZOFFSETTO:+0000
TZNAME:UTC
DTSTART:20240101T000000
END:STANDARD
END:VTIMEZONE
BEGIN:VTIMEZONE
TZID:America/Los_Angeles
BEGIN:DAYLIGHT
TZOFFSETFROM:-0800
TZOFFSETTO:-0700
TZNAME:PDT
DTSTART:20250309T100000
END:DAYLIGHT
BEGIN:STANDARD
TZOFFSETFROM:-0700
TZOFFSETTO:-0800
TZNAME:PST
DTSTART:20251102T090000
END:STANDARD
BEGIN:DAYLIGHT
TZOFFSETFROM:-0800
TZOFFSETTO:-0700
TZNAME:PDT
DTSTART:20260308T100000
END:DAYLIGHT
BEGIN:STANDARD
TZOFFSETFROM:-0700
TZOFFSETTO:-0800
TZNAME:PST
DTSTART:20261101T090000
END:STANDARD
BEGIN:DAYLIGHT
TZOFFSETFROM:-0800
TZOFFSETTO:-0700
TZNAME:PDT
DTSTART:20270314T100000
END:DAYLIGHT
BEGIN:STANDARD
TZOFFSETFROM:-0700
TZOFFSETTO:-0800
TZNAME:PST
DTSTART:20271107T090000
END:STANDARD
END:VTIMEZONE
BEGIN:VEVENT
DTSTART;TZID=UTC:20250412T070000
DTEND;TZID=UTC:20250412T113000
DTSTAMP:20260422T181536
CREATED:20241207T061743Z
LAST-MODIFIED:20250204T165050Z
UID:947-1744441200-1744457400@concernamerica.org
SUMMARY:Walk Out Of Poverty
DESCRIPTION:Concern America’s 28th\nAnnual Walk Out of Poverty\nJoin us for a five-mile walk at Mile Square Park in Fountain Valley\, CA\, or connect virtually and walk from wherever you are! Funds raised bring trained health care practitioners\, education\, and clean water systems to impoverished communities in Latin America. \n  \n1. Register! For those walking with us on April 12: Registration is $10 and includes a Walk t-shirt. Children 3 and under walk for free\, but must still register! Online registration closed at 12pm on Friday\, April 11\, however you may register at the event. For those walking from wherever they are: Registration is free\, but does not include a t-shirt. \nCLICK HERE TO REGISTER NOW\n2. Set a Goal: Any amount counts! $100 provides a person with clean water for 25 years; $1\,000 enables full medical training for a village health care provider. \n3. Fundraise: Invite your family members\, coworkers\, schoolmates\, and more to support by giving through your online page or by checks and cash. We encourage you to raise at least $100. \nCLICK HERE TO BEGIN YOUR FUNDRAISING PAGE\n  \n4. Walk! For those of you joining us in person on April 12\, arrive at 7am at Holy Spirit Church in Fountain Valley. Check in\, grab a granola bar\, and pick up your t-shirt! We begin the five-mile walk at 7:30 am. \nFor those connecting virtually\, share photos/videos of you walking and tune in on April 12 to see our global community walking!
URL:https://concernamerica.org/event/walk-out-of-poverty-2/
LOCATION:Holy Spirit Church\, 17270 Ward St\, Fountain Valley\, CA\, 92708\, United States
ORGANIZER;CN="Teri Saydak":MAILTO:tsaydak@concernamerica.org
END:VEVENT
BEGIN:VEVENT
DTSTART;TZID=UTC:20250412T080000
DTEND;TZID=UTC:20250412T080000
DTSTAMP:20260422T181536
CREATED:20241207T061226Z
LAST-MODIFIED:20250808T190547Z
UID:945-1744444800-1744444800@concernamerica.org
SUMMARY:Walk out of Poverty
DESCRIPTION:
URL:https://concernamerica.org/event/walk-out-of-poverty/
LOCATION:CA
END:VEVENT
BEGIN:VEVENT
DTSTART;TZID=UTC:20250712T170000
DTEND;TZID=UTC:20250712T200000
DTSTAMP:20260422T181536
CREATED:20241207T063303Z
LAST-MODIFIED:20250529T190048Z
UID:950-1752339600-1752350400@concernamerica.org
SUMMARY:Summer Celebration
DESCRIPTION:An evening of food\, drink\, and friends to support and celebrate Concern America\, featuring Pilar Quintanilla of our new project in San Miguel de Allende\, Mexico. We will be honoring: \nDr. Michael Gilbert John\, O’Donohue Integrity Award \nThe Garner Sisters\, Michael Doheny Humanitarian Award \n\n			\n				\n				\n				\n				\n				                                            \n                                                Click Here to Buy Tickets
URL:https://concernamerica.org/event/summer-celebration/
LOCATION:Summer Celebration\, 1144 Sharon Rd.\, Santa Ana\, CA\, 92706\, United States
END:VEVENT
BEGIN:VEVENT
DTSTART;TZID=UTC:20251018T150000
DTEND;TZID=UTC:20251018T180000
DTSTAMP:20260422T181536
CREATED:20241207T064004Z
LAST-MODIFIED:20241207T064004Z
UID:952-1760799600-1760810400@concernamerica.org
SUMMARY:18th Annual Grow A Global Heart Auction
DESCRIPTION:When: October 18\, 3:00-6:00 PM \nWhere: Sisters of St. Joseph of Orange – Center for Spiritual Development (outdoors) \n434 S. Batavia Street\, Orange\, CA 92868
URL:https://concernamerica.org/event/18th-annual-grow-a-global-heart-auction/
LOCATION:CA
END:VEVENT
BEGIN:VEVENT
DTSTART;TZID=America/Los_Angeles:20260411T073000
DTEND;TZID=America/Los_Angeles:20260411T113000
DTSTAMP:20260422T181536
CREATED:20250811T153513Z
LAST-MODIFIED:20260209T162044Z
UID:1959-1775892600-1775907000@concernamerica.org
SUMMARY:Walk Out of Poverty 2026
DESCRIPTION:Lace up those sneakers and get ready to Walk! Join us on Saturday\, April 11 at 7:30 am for Concern America’s 29th Annual Walk Out of Poverty. You can do the five-mile walk at Mile Square Park in Fountain Valley\, CA\, or walk from wherever you are by connecting virtually. \nFunds raised through the Walk help train community members in health care\, education\, clean water\, and income generation in Latin American communities. \nClick Here to Set Up Page\n\n\n\n\n\nClick Here to Buy Tickets
URL:https://concernamerica.org/event/walk-out-of-poverty-2026/
LOCATION:Holy Spirit Church\, 17270 Ward St\, Fountain Valley\, CA\, 92708\, United States
ORGANIZER;CN="Teri Saydak":MAILTO:tsaydak@concernamerica.org
END:VEVENT
END:VCALENDAR