BEGIN:VCALENDAR
VERSION:2.0
PRODID:-//Concern America - ECPv6.15.20//NONSGML v1.0//EN
CALSCALE:GREGORIAN
METHOD:PUBLISH
X-WR-CALNAME:Concern America
X-ORIGINAL-URL:https://concernamerica.org
X-WR-CALDESC:Events for Concern America
REFRESH-INTERVAL;VALUE=DURATION:PT1H
X-Robots-Tag:noindex
X-PUBLISHED-TTL:PT1H
BEGIN:VTIMEZONE
TZID:America/Los_Angeles
BEGIN:DAYLIGHT
TZOFFSETFROM:-0800
TZOFFSETTO:-0700
TZNAME:PDT
DTSTART:20240310T100000
END:DAYLIGHT
BEGIN:STANDARD
TZOFFSETFROM:-0700
TZOFFSETTO:-0800
TZNAME:PST
DTSTART:20241103T090000
END:STANDARD
BEGIN:DAYLIGHT
TZOFFSETFROM:-0800
TZOFFSETTO:-0700
TZNAME:PDT
DTSTART:20250309T100000
END:DAYLIGHT
BEGIN:STANDARD
TZOFFSETFROM:-0700
TZOFFSETTO:-0800
TZNAME:PST
DTSTART:20251102T090000
END:STANDARD
BEGIN:DAYLIGHT
TZOFFSETFROM:-0800
TZOFFSETTO:-0700
TZNAME:PDT
DTSTART:20260308T100000
END:DAYLIGHT
BEGIN:STANDARD
TZOFFSETFROM:-0700
TZOFFSETTO:-0800
TZNAME:PST
DTSTART:20261101T090000
END:STANDARD
END:VTIMEZONE
BEGIN:VEVENT
DTSTART;TZID=America/Los_Angeles:20250302T170000
DTEND;TZID=America/Los_Angeles:20250302T193000
DTSTAMP:20260422T144658
CREATED:20250127T191931Z
LAST-MODIFIED:20250430T165013Z
UID:1232-1740934800-1740943800@concernamerica.org
SUMMARY:Transforming Community Health Care Around San Miguel
DESCRIPTION:The price is in MXN$ (pesos) but is equivalent to approximately $25 USD\n\nAn evening to be inspired and support Concern America’s innovative health model training community members to be their own health care providers. Concern America\, a US-based non-profit\, is partnering locally to bring care to 5\,000 people in the region around San Miguel. Come to hear from the project team while enjoying appetizers\, drinks\, and unique opportunity drawings\, all in the iconic Casa Proserpina.  \nTransformando la atención médica comunitaria alrededor de San Miguel \n\nEl precio está en MXN$ (pesos) pero está equivalente a $25 USD aproximadamente.\n\nUna noche para inspirarse y apoyar el modelo innovador de salud de Concern America\, que capacita a miembros de la comunidad para que sean sus propios proveedores de atención médica. Concern America\, una organización sin fines de lucro con sede en EE. UU.\, se asocia localmente para llevar atención a 5\,000 personas en la región alrededor de San Miguel. Ven a escuchar al equipo del proyecto mientras disfrutas de aperitivos\, bebidas y sorteos de oportunidades únicas\, todo en la icónica Casa Proserpina. \n 
URL:https://concernamerica.org/event/smda/
LOCATION:Casa Proserpina\, Relox 24\, Zona Centro\, San Miguel de Allende\, 37700\, Mexico
END:VEVENT
END:VCALENDAR